BEGIN:VCALENDAR
VERSION:2.0
PRODID:-//Best Self-Defence Class in Calgary - ECPv6.15.20//NONSGML v1.0//EN
CALSCALE:GREGORIAN
METHOD:PUBLISH
X-WR-CALNAME:Best Self-Defence Class in Calgary
X-ORIGINAL-URL:https://safe4life.ca
X-WR-CALDESC:Events for Best Self-Defence Class in Calgary
REFRESH-INTERVAL;VALUE=DURATION:PT1H
X-Robots-Tag:noindex
X-PUBLISHED-TTL:PT1H
BEGIN:VTIMEZONE
TZID:America/Edmonton
BEGIN:DAYLIGHT
TZOFFSETFROM:-0700
TZOFFSETTO:-0600
TZNAME:MDT
DTSTART:20190310T090000
END:DAYLIGHT
BEGIN:STANDARD
TZOFFSETFROM:-0600
TZOFFSETTO:-0700
TZNAME:MST
DTSTART:20191103T080000
END:STANDARD
BEGIN:DAYLIGHT
TZOFFSETFROM:-0700
TZOFFSETTO:-0600
TZNAME:MDT
DTSTART:20200308T090000
END:DAYLIGHT
BEGIN:STANDARD
TZOFFSETFROM:-0600
TZOFFSETTO:-0700
TZNAME:MST
DTSTART:20201101T080000
END:STANDARD
BEGIN:DAYLIGHT
TZOFFSETFROM:-0700
TZOFFSETTO:-0600
TZNAME:MDT
DTSTART:20210314T090000
END:DAYLIGHT
BEGIN:STANDARD
TZOFFSETFROM:-0600
TZOFFSETTO:-0700
TZNAME:MST
DTSTART:20211107T080000
END:STANDARD
END:VTIMEZONE
BEGIN:VEVENT
DTSTART;TZID=America/Edmonton:20200612T100000
DTEND;TZID=America/Edmonton:20200612T113000
DTSTAMP:20260425T181046
CREATED:20200527T215345Z
LAST-MODIFIED:20200527T215345Z
UID:4433-1591956000-1591961400@safe4life.ca
SUMMARY:ONLINE: SafeKids Public Class
DESCRIPTION:FOR A LIMITED TIME ONLY: PAY WHAT YOU CAN \nOne of a kind Self Defense class for kids ages 6 – 11\, developed by Police Officers. SafeKids is a 90 minute online program that teaches children to be alert to dangers\, and gives them specific strategies and skills to manage and avoid scary and dangerous situations. The ABCD’s of Personal Safety\, the Safety Cheer and hands on practice in a safe environment are key components of this energetic and popular program \nRegistrants will receive a link to join the Live session.
URL:https://safe4life.ca/event/online-safekids-public-class-3/
LOCATION:Alberta
END:VEVENT
BEGIN:VEVENT
DTSTART;TZID=America/Edmonton:20200613T090000
DTEND;TZID=America/Edmonton:20200613T130000
DTSTAMP:20260425T181046
CREATED:20200316T175933Z
LAST-MODIFIED:20200527T215107Z
UID:4371-1592038800-1592053200@safe4life.ca
SUMMARY:POSTPONED - SafeAdults Public Class at Dreamview Village
DESCRIPTION:Safe4Life Personal Safety Training….More Than Self Defense is an interactive and effective Personal Safety Training Program . The class is presented by Policing Professionals and is offered in corporate settings\, Police Service programs\, community venues\, and schools to promote the valuable concepts of personal safety and reduce the number of victims of crime in our community. \nIn just 4 hours\, we show you how to take charge of a potentially dangerous situation and avoid or defeat an attack by a determined perpetrator.
URL:https://safe4life.ca/event/safeadults-public-class-at-dreamview-village/
LOCATION:Dreamview Village\, 254 Riverview Point SE\, Calgary\, Alberta\, T2C 4H8\, Canada
END:VEVENT
BEGIN:VEVENT
DTSTART;TZID=America/Edmonton:20200613T140000
DTEND;TZID=America/Edmonton:20200613T170000
DTSTAMP:20260425T181046
CREATED:20200316T180117Z
LAST-MODIFIED:20200527T215053Z
UID:4375-1592056800-1592067600@safe4life.ca
SUMMARY:POSTPONED - SafeKids Public Class at Dreamview Village
DESCRIPTION:One of a kind Self Defense class for kids ages 6 – 11\, developed by Police Officers. SafeKids is a 3 hour program that teaches children to be alert to dangers\, and gives them specific strategies and skills to manage and avoid scary and dangerous situations. The ABCD’s of Personal Safety\, the Safety Cheer and hands on practice in a safe environment are key components of this energetic and popular program
URL:https://safe4life.ca/event/safekids-public-class-at-dreamview-village/
LOCATION:Dreamview Village\, 254 Riverview Point SE\, Calgary\, Alberta\, T2C 4H8\, Canada
END:VEVENT
BEGIN:VEVENT
DTSTART;TZID=America/Edmonton:20200619T100000
DTEND;TZID=America/Edmonton:20200619T113000
DTSTAMP:20260425T181046
CREATED:20200527T215559Z
LAST-MODIFIED:20200527T215559Z
UID:4437-1592560800-1592566200@safe4life.ca
SUMMARY:ONLINE: SafeTeens Public Class
DESCRIPTION:FOR A LIMITED TIME ONLY: PAY WHAT YOU CAN \n\nDo you worry about your teen as they walk to or from work and school?\nDo you worry about assault or a physical attack?\nDoes your teen know the single most important strategy that can end an assault in less than 10 seconds?\n\nRegistrants will receive a link to join the Live session.
URL:https://safe4life.ca/event/online-safeteens-public-class-3/
LOCATION:Alberta
END:VEVENT
BEGIN:VEVENT
DTSTART;TZID=America/Edmonton:20200619T100000
DTEND;TZID=America/Edmonton:20200619T113000
DTSTAMP:20260425T181046
CREATED:20200527T215701Z
LAST-MODIFIED:20200527T215701Z
UID:4439-1592560800-1592566200@safe4life.ca
SUMMARY:ONLINE: SafeTeens Public Class
DESCRIPTION:FOR A LIMITED TIME ONLY: PAY WHAT YOU CAN \n\nDo you worry about your teen as they walk to or from work and school?\nDo you worry about assault or a physical attack?\nDoes your teen know the single most important strategy that can end an assault in less than 10 seconds?\n\nRegistrants will receive a link to join the Live session.
URL:https://safe4life.ca/event/online-safeteens-public-class-4/
LOCATION:Alberta
END:VEVENT
BEGIN:VEVENT
DTSTART;TZID=America/Edmonton:20200626T100000
DTEND;TZID=America/Edmonton:20200626T113000
DTSTAMP:20260425T181046
CREATED:20200527T215447Z
LAST-MODIFIED:20200527T215447Z
UID:4435-1593165600-1593171000@safe4life.ca
SUMMARY:ONLINE: SafeKids Public Class
DESCRIPTION:FOR A LIMITED TIME ONLY: PAY WHAT YOU CAN \nOne of a kind Self Defense class for kids ages 6 – 11\, developed by Police Officers. SafeKids is a 90 minute online program that teaches children to be alert to dangers\, and gives them specific strategies and skills to manage and avoid scary and dangerous situations. The ABCD’s of Personal Safety\, the Safety Cheer and hands on practice in a safe environment are key components of this energetic and popular program \nRegistrants will receive a link to join the Live session.
URL:https://safe4life.ca/event/online-safekids-public-class-4/
LOCATION:Alberta
END:VEVENT
END:VCALENDAR