BEGIN:VCALENDAR
VERSION:2.0
PRODID:-//Best Self-Defence Class in Calgary - ECPv6.15.20//NONSGML v1.0//EN
CALSCALE:GREGORIAN
METHOD:PUBLISH
X-WR-CALNAME:Best Self-Defence Class in Calgary
X-ORIGINAL-URL:https://safe4life.ca
X-WR-CALDESC:Events for Best Self-Defence Class in Calgary
REFRESH-INTERVAL;VALUE=DURATION:PT1H
X-Robots-Tag:noindex
X-PUBLISHED-TTL:PT1H
BEGIN:VTIMEZONE
TZID:America/Edmonton
BEGIN:DAYLIGHT
TZOFFSETFROM:-0700
TZOFFSETTO:-0600
TZNAME:MDT
DTSTART:20180311T090000
END:DAYLIGHT
BEGIN:STANDARD
TZOFFSETFROM:-0600
TZOFFSETTO:-0700
TZNAME:MST
DTSTART:20181104T080000
END:STANDARD
BEGIN:DAYLIGHT
TZOFFSETFROM:-0700
TZOFFSETTO:-0600
TZNAME:MDT
DTSTART:20190310T090000
END:DAYLIGHT
BEGIN:STANDARD
TZOFFSETFROM:-0600
TZOFFSETTO:-0700
TZNAME:MST
DTSTART:20191103T080000
END:STANDARD
BEGIN:DAYLIGHT
TZOFFSETFROM:-0700
TZOFFSETTO:-0600
TZNAME:MDT
DTSTART:20200308T090000
END:DAYLIGHT
BEGIN:STANDARD
TZOFFSETFROM:-0600
TZOFFSETTO:-0700
TZNAME:MST
DTSTART:20201101T080000
END:STANDARD
END:VTIMEZONE
BEGIN:VEVENT
DTSTART;VALUE=DATE:20190918
DTEND;VALUE=DATE:20190920
DTSTAMP:20260425T193435
CREATED:20190911T201140Z
LAST-MODIFIED:20190912T160616Z
UID:3994-1568764800-1568937599@safe4life.ca
SUMMARY:Private Corporate Class with Brookfield Property Management
DESCRIPTION:
URL:https://safe4life.ca/event/private-corporate-class-4/
LOCATION:Brookfield Property Management\, Calgary\, Alberta\, Canada
END:VEVENT
BEGIN:VEVENT
DTSTART;VALUE=DATE:20190914
DTEND;VALUE=DATE:20190915
DTSTAMP:20260425T193435
CREATED:20190911T201448Z
LAST-MODIFIED:20190911T201448Z
UID:3996-1568419200-1568505599@safe4life.ca
SUMMARY:This Girl Can
DESCRIPTION:Tradeshow
URL:https://safe4life.ca/event/this-girl-can/
LOCATION:Big Four Building\, 1801 Big Four Trail SE\, Calgary\, Alberta\, T2G 2W1\, Canada
END:VEVENT
BEGIN:VEVENT
DTSTART;TZID=America/Edmonton:20190911T083000
DTEND;TZID=America/Edmonton:20190911T123000
DTSTAMP:20260425T193435
CREATED:20190911T201637Z
LAST-MODIFIED:20190912T160644Z
UID:4000-1568190600-1568205000@safe4life.ca
SUMMARY:SafeAdults Private Class at Accessible Housing
DESCRIPTION:
URL:https://safe4life.ca/event/safeadults-private-class-3/
LOCATION:Accessible Housing\, Calgary\, Alberta\, Canada
END:VEVENT
END:VCALENDAR