BEGIN:VCALENDAR
VERSION:2.0
PRODID:-//Best Self-Defence Class in Calgary - ECPv6.15.20//NONSGML v1.0//EN
CALSCALE:GREGORIAN
METHOD:PUBLISH
X-ORIGINAL-URL:https://safe4life.ca
X-WR-CALDESC:Events for Best Self-Defence Class in Calgary
REFRESH-INTERVAL;VALUE=DURATION:PT1H
X-Robots-Tag:noindex
X-PUBLISHED-TTL:PT1H
BEGIN:VTIMEZONE
TZID:America/Edmonton
BEGIN:DAYLIGHT
TZOFFSETFROM:-0700
TZOFFSETTO:-0600
TZNAME:MDT
DTSTART:20190310T090000
END:DAYLIGHT
BEGIN:STANDARD
TZOFFSETFROM:-0600
TZOFFSETTO:-0700
TZNAME:MST
DTSTART:20191103T080000
END:STANDARD
BEGIN:DAYLIGHT
TZOFFSETFROM:-0700
TZOFFSETTO:-0600
TZNAME:MDT
DTSTART:20200308T090000
END:DAYLIGHT
BEGIN:STANDARD
TZOFFSETFROM:-0600
TZOFFSETTO:-0700
TZNAME:MST
DTSTART:20201101T080000
END:STANDARD
BEGIN:DAYLIGHT
TZOFFSETFROM:-0700
TZOFFSETTO:-0600
TZNAME:MDT
DTSTART:20210314T090000
END:DAYLIGHT
BEGIN:STANDARD
TZOFFSETFROM:-0600
TZOFFSETTO:-0700
TZNAME:MST
DTSTART:20211107T080000
END:STANDARD
END:VTIMEZONE
BEGIN:VEVENT
DTSTART;TZID=America/Edmonton:20200818T100000
DTEND;TZID=America/Edmonton:20200818T120000
DTSTAMP:20260425T164734
CREATED:20200703T044140Z
LAST-MODIFIED:20200703T044140Z
UID:4454-1597744800-1597752000@safe4life.ca
SUMMARY:SafeKids Public Class Outdoors at Vivo
DESCRIPTION:COVID-19 Pre-screening required at drop off please: safety protocols will be followed. Please check in with instructors for verification and signatures. \nThis class will be offered rain or shine\, outside in the field at Vivo. \nOne of a kind Self Defense class for kids ages 6 – 11\, developed by Police Officers. SafeKids is a 2 hour program that teaches children to be alert to dangers\, and gives them specific strategies and skills to manage and avoid scary and dangerous situations. The ABCD’s of Personal Safety\, the Safety Cheer and hands on practice in a safe environment are key components of this energetic and popular program.
URL:https://safe4life.ca/event/safekids-public-class-outdoors-at-vivo-4/
LOCATION:Vivo for Healthier Generations\, 11950 Country Village Link NE\, Calgary\, Alberta\, T3K 6E3\, Canada
END:VEVENT
END:VCALENDAR