BEGIN:VCALENDAR
VERSION:2.0
PRODID:-//Best Self-Defence Class in Calgary - ECPv6.15.20//NONSGML v1.0//EN
CALSCALE:GREGORIAN
METHOD:PUBLISH
X-WR-CALNAME:Best Self-Defence Class in Calgary
X-ORIGINAL-URL:https://safe4life.ca
X-WR-CALDESC:Events for Best Self-Defence Class in Calgary
REFRESH-INTERVAL;VALUE=DURATION:PT1H
X-Robots-Tag:noindex
X-PUBLISHED-TTL:PT1H
BEGIN:VTIMEZONE
TZID:America/Edmonton
BEGIN:DAYLIGHT
TZOFFSETFROM:-0700
TZOFFSETTO:-0600
TZNAME:MDT
DTSTART:20190310T090000
END:DAYLIGHT
BEGIN:STANDARD
TZOFFSETFROM:-0600
TZOFFSETTO:-0700
TZNAME:MST
DTSTART:20191103T080000
END:STANDARD
BEGIN:DAYLIGHT
TZOFFSETFROM:-0700
TZOFFSETTO:-0600
TZNAME:MDT
DTSTART:20200308T090000
END:DAYLIGHT
BEGIN:STANDARD
TZOFFSETFROM:-0600
TZOFFSETTO:-0700
TZNAME:MST
DTSTART:20201101T080000
END:STANDARD
BEGIN:DAYLIGHT
TZOFFSETFROM:-0700
TZOFFSETTO:-0600
TZNAME:MDT
DTSTART:20210314T090000
END:DAYLIGHT
BEGIN:STANDARD
TZOFFSETFROM:-0600
TZOFFSETTO:-0700
TZNAME:MST
DTSTART:20211107T080000
END:STANDARD
END:VTIMEZONE
BEGIN:VEVENT
DTSTART;TZID=America/Edmonton:20200425T130000
DTEND;TZID=America/Edmonton:20200425T160000
DTSTAMP:20260425T220142
CREATED:20200316T175208Z
LAST-MODIFIED:20200316T180521Z
UID:4366-1587819600-1587830400@safe4life.ca
SUMMARY:Mother-Daughter Class Public Class at SoleGirls YYC
DESCRIPTION:A powerful combination of the SafeAdults and SafeTeen program\, this session is a great bonding opportunity for teens and parents. Parents will be confident their teen has the skills to protect themselves in the outside world\, and they learn the skills themselves. City of Calgary Police Officers facilitate this session. Participants walk away with heads held high and a greater sense of awareness and confidence.
URL:https://safe4life.ca/event/mother-daughter-class-public-class-at-solegirls-yyc/
LOCATION:Calgary NW FitBody Boot Camp\, 4118 Brentwood Rd NW\, Calgary\, Cana\, T2L 1K8\, Canada
END:VEVENT
END:VCALENDAR