BEGIN:VCALENDAR
VERSION:2.0
PRODID:-//Best Self-Defence Class in Calgary - ECPv6.15.20//NONSGML v1.0//EN
CALSCALE:GREGORIAN
METHOD:PUBLISH
X-WR-CALNAME:Best Self-Defence Class in Calgary
X-ORIGINAL-URL:https://safe4life.ca
X-WR-CALDESC:Events for Best Self-Defence Class in Calgary
REFRESH-INTERVAL;VALUE=DURATION:PT1H
X-Robots-Tag:noindex
X-PUBLISHED-TTL:PT1H
BEGIN:VTIMEZONE
TZID:America/Edmonton
BEGIN:DAYLIGHT
TZOFFSETFROM:-0700
TZOFFSETTO:-0600
TZNAME:MDT
DTSTART:20190310T090000
END:DAYLIGHT
BEGIN:STANDARD
TZOFFSETFROM:-0600
TZOFFSETTO:-0700
TZNAME:MST
DTSTART:20191103T080000
END:STANDARD
BEGIN:DAYLIGHT
TZOFFSETFROM:-0700
TZOFFSETTO:-0600
TZNAME:MDT
DTSTART:20200308T090000
END:DAYLIGHT
BEGIN:STANDARD
TZOFFSETFROM:-0600
TZOFFSETTO:-0700
TZNAME:MST
DTSTART:20201101T080000
END:STANDARD
BEGIN:DAYLIGHT
TZOFFSETFROM:-0700
TZOFFSETTO:-0600
TZNAME:MDT
DTSTART:20210314T090000
END:DAYLIGHT
BEGIN:STANDARD
TZOFFSETFROM:-0600
TZOFFSETTO:-0700
TZNAME:MST
DTSTART:20211107T080000
END:STANDARD
END:VTIMEZONE
BEGIN:VEVENT
DTSTART;TZID=America/Edmonton:20200405T100000
DTEND;TZID=America/Edmonton:20200405T120000
DTSTAMP:20260425T215438
CREATED:20200316T174359Z
LAST-MODIFIED:20200316T174359Z
UID:4360-1586080800-1586088000@safe4life.ca
SUMMARY:SafeKids Private Class at Twins\, Triplets & More
DESCRIPTION:
URL:https://safe4life.ca/event/safekids-private-class-at-twins-triplets-more/
LOCATION:Alberta
END:VEVENT
END:VCALENDAR